Workbook

Sheet НАСЛОВ
A1: Институт за јавно здравље Србије
A2: „Др Милан Јовановић Батут“
A17: ПЛАНСКО-ИЗВЕШТАЈНЕ ТАБЕЛЕ
A18: ЗА УСТАНОВЕ
A19: ПРИМАРНЕ ЗДРАВСТВЕНЕ ЗАШТИТЕ
A20: ЗА 2026. ГОДИНУ
A41: Београд, 2025. година

Sheet Садржај
A3: Табела | B3: 1 | C3: ОПШТИ ПОДАЦИ О ОСИГУРАНИМ ЛИЦИМА
A4: Табела | B4: 2 | C4: БРОЈ ЗДРАВСТВЕНИХ РАДНИКА И САРАДНИКА У ЗДРАВСТВЕНОЈ УСТАНОВИ НА ПРИМАРНОМ НИВОУ ЗДРАВСТВЕНЕ ЗАШТИТЕ, НА ДАН 31.3.2026. ГОДИНЕ
A5: Табела | B5: 3 | C5: БРОЈ ЗДРАВСТВЕНИХ РАДНИКА У СЛУЖБИ ЗА СТОМАТОЛОШКУ ЗДРАВСТВЕНУ ЗАШТИТУ НА ДАН 31.3.2026. ГОДИНЕ
A6: Табела | B6: 4 | C6: БРОЈ ЗДРАВСТВЕНИХ РАДНИКА У АПОТЕЦИ У СКЛОПУ ЗДРАВСТВЕНЕ УСТАНОВЕ НА ДАН 31.3.2026. ГОДИНЕ
A7: Табела | B7: 5 | C7: БРОЈ НЕМЕДИЦИНСКИХ РАДНИКА НА ДАН 31.3.2026. ГОДИНЕ
A8: Табела | B8: 6 | C8: УКУПАН КАДАР У ЗДРАВСТВЕНОЈ УСТАНОВИ НА ДАН 31.3.2026. ГОДИНЕ
A9: Табела | B9: 7 | C9: ЗДРАВСТВЕНЕ УСЛУГЕ ПО СЛУЖБАМА
A10: Табела | B10: 8 | C10: ЗБИРНА (ПИВОТ) ТАБЕЛА
A11: Табела | B11: 9 | C11: ЛЕКОВИ ЗА ОСИГУРАНА ЛИЦА
A12: Табела | B12: 10 | C12: САНИТЕТСКИ И МЕДИЦИНСКИ ПОТРОШНИ МАТЕРИЈАЛ ЗА ОСИГУРАНА ЛИЦА РФЗО
A13: Табела | B13: 11 | C13: РЕАГЕНСИ

Sheet ДЕМОГРАФИЈА
A1: ЗДРАВСТВЕНА УСТАНОВА ДОМ ЗДРАВЉА БАТОЧИНА
A2: ОПШТИ ПОДАЦИ О ОСИГУРАНИМ ЛИЦИМА
B3: Табела бр. 1
A4: ГРУПАЦИЈЕ РЕГИСТРОВАНИХ ОСИГУРАНИКА | B4: БРОЈ
A5: УКУПАН БРОЈ ОСИГУРАНИКА | B5: 10162
A6: НОВОРОЂЕНЧЕ (ПРВИ МЕСЕЦ) | B6: 10
A7: ОДОЈЧЕ (ОД ДРУГОГ МЕСЕЦА ДО КРАЈА ПРВЕ ГОДИНЕ) | B7: 102
A8: ДРУГА ГОДИНА ЖИВОТА | B8: 99
A9: ТРЕЋА ГОДИНА ЖИВОТА | B9: 103
A10: ЧЕТВРТА ГОДИНА ЖИВОТА | B10: 116
A11: ПЕТА ГОДИНА ЖИВОТА | B11: 102
A12: ШЕСТА ГОДИНА ЖИВОТА | B12: 112
A13: СЕДМА ГОДИНА ЖИВОТА, ОДНОСНО ПРЕД ПОЛАЗАК У ШКОЛУ | B13: 116
A14: УКУПНО 0-6,99 ГОДИНА | B14: 428
A15: 7-14 ГОДИНА | B15: 642
A16: 15-18 ГОДИНА | B16: 472
... A45: УКУПНО СТУДЕНАТА ДО 26 ГОДИНА | B45: 845
A46: *За организовани скрининг становништво

Sheet ЗДР.РАД. И САРАД.
A1: БРОЈ ЗДРАВСТВЕНИХ РАДНИКА И САРАДНИКА У ЗДРАВСТВЕНОЈ УСТАНОВИ НА ПРИМАРНОМ НИВОУ ЗДРАВСТВЕНЕ ЗАШТИТЕ, НА ДАН 31.3.2026. ГОДИНЕ
B2: ЗДРАВСТВЕНА УСТАНОВА | I2: ДОМ ЗДРАВЉА БАТОЧИНА
Z3: Табела бр. 2
A4: Р.бр. | B4: ОРГАНИЗАЦИОНЕ ЈЕДИНИЦЕ ПО ОБЛАСТИМА ДЕЛАТНОСТИ (у складу са Статутом) | F4: Запослени на неодређено време који се финансирају из средстава обавезног здравственог осигурања | X4: Запослени на неодређено време који се финансирају из других средстава
F5: ДОКТОР МЕДИЦИНЕ | J5: ФАРМАЦЕУТ-БИОХЕМИЧАР | K5: Норматив | L5: Разлика | M5: МЕДИЦИНСКЕ СЕСТРЕ - ТЕХНИЧАРИ | R5: ЗДРАВСТВЕНИ САРАДНИЦИ
F6: Општа медицина | G6: На специјализацији | H6: Специјалиста | I6: Укупно | M6: ССС | N6: ВШС | O6: Укупно | P6: Норматив | Q6: разлика | R6: ССС | S6: ВШС | T6: ВСС | U6: укупно | V6: Норматив | W6: разлика | X6: доктори медицине | Y6: Мед радници са ССС ВШС | Z6: здр. Сарадници
A7: 1 | B7: Здравствена заштита деце | H7: 1 | I7: =SUM(F7:H7) -> 1 | K7: 1 | L7: =(I7+J7)-K7 -> 0 | M7: 2 | O7: =SUM(M7:N7) -> 2 | P7: 1 | Q7: =O7-P7 -> 1 | U7: =SUM(R7:T7) -> 0 | W7: =U7-V7 -> 0
A8: 1.1 | B8: Развојно саветовалиште | I8: =SUM(F8:H8) -> 0 | L8: =(I8+J8)-K8 -> 0 | O8: =SUM(M8:N8) -> 0 | Q8: =O8-P8 -> 0 | U8: =SUM(R8:T8) -> 0 | W8: =U8-V8 -> 0
A9: 2 | B9: Здравствена заштита школске деце | G9: 1 | H9: 1 | I9: =SUM(F9:H9) -> 2 | K9: 1 | L9: =(I9+J9)-K9 -> 1 | M9: 2 | O9: =SUM(M9:N9) -> 2 | P9: 1 | Q9: =O9-P9 -> 1 | U9: =SUM(R9:T9) -> 0 | W9: =U9-V9 -> 0
A10: 2.1 | B10: Саветовалиште за младе | I10: =SUM(F10:H10) -> 0 | L10: =(I10+J10)-K10 -> 0 | O10: =SUM(M10:N10) -> 0 | Q10: =O10-P10 -> 0 | U10: =SUM(R10:T10) -> 0 | W10: =U10-V10 -> 0
A11: 3 | B11: Здравствена заштита жена | H11: 1 | I11: =SUM(F11:H11) -> 1 | K11: 1 | L11: =(I11+J11)-K11 -> 0 | M11: 3 | O11: =SUM(M11:N11) -> 3 | P11: 1 | Q11: =O11-P11 -> 2 | U11: =SUM(R11:T11) -> 0 | W11: =U11-V11 -> 0
A12: 4 | B12: Здравствена заштита одраслих | F12: 1 | H12: 5 | I12: =SUM(F12:H12) -> 6 | K12: 6 | L12: =(I12+J12)-K12 -> 0 | M12: 10 | N12: 1 | O12: =SUM(M12:N12) -> 11 | P12: 8 | Q12: =O12-P12 -> 3 | U12: =SUM(R12:T12) -> 0 | W12: =U12-V12 -> 0
A13: 5 | B13: Хитна медицинска помоћ | F13: 1 | H13: 1 | I13: =SUM(F13:H13) -> 2 | K13: 2 | L13: =(I13+J13)-K13 -> 0 | M13: 5 | O13: =SUM(M13:N13) -> 5 | P13: 3 | Q13: =O13-P13 -> 2 | U13: =SUM(R13:T13) -> 0 | W13: =U13-V13 -> 0
A14: 6 | B14: Кућно лечење и медицинска нега | H14: 1 | I14: =SUM(F14:H14) -> 1 | K14: 1 | L14: =(I14+J14)-K14 -> 0 | M14: 5 | O14: =SUM(M14:N14) -> 5 | P14: 2 | Q14: =O14-P14 -> 3 | U14: =SUM(R14:T14) -> 0 | W14: =U14-V14 -> 0
A15: 7 | B15: Поливалентна патронажна служба | I15: =SUM(F15:H15) -> 0 | L15: =(I15+J15)-K15 -> 0 | N15: 3 | O15: =SUM(M15:N15) -> 3 | P15: 3 | Q15: =O15-P15 -> 0 | U15: =SUM(R15:T15) -> 0 | W15: =U15-V15 -> 0
A16: 8 | B16: Радиолошка дијагностика | H16: 1 | I16: =SUM(F16:H16) -> 1 | K16: 1 | L16: =(I16+J16)-K16 -> 0 | N16: 1 | O16: =SUM(M16:N16) -> 1 | P16: 1 | Q16: =O16-P16 -> 0 | U16: =SUM(R16:T16) -> 0 | W16: =U16-V16 -> 0
A17: 9 | B17: Лабораторијска дијагностика | G17: 1 | I17: =SUM(F17:H17) -> 1 | K17: 1 | L17: =(I17+J17)-K17 -> 0 | M17: 5 | N17: 1 | O17: =SUM(M17:N17) -> 6 | P17: 5 | Q17: =O17-P17 -> 1 | U17: =SUM(R17:T17) -> 0 | W17: =U17-V17 -> 0
A18: 10.1 | B18: Специјалистичко консултативна служба | C18: Интерна | G18: 1 | I18: =SUM(F18:H18) -> 1 | K18: 0 | L18: =(I18+J18)-K18 -> 1 | O18: =SUM(M18:N18) -> 0 | P18: 0 | Q18: =O18-P18 -> 0 | U18: =SUM(R18:T18) -> 0 | W18: =U18-V18 -> 0
A19: 10.2 | C19: Пнеумофтизиологија | I19: =SUM(F19:H19) -> 0 | L19: =(I19+J19)-K19 -> 0 | O19: =SUM(M19:N19) -> 0 | Q19: =O19-P19 -> 0 | U19: =SUM(R19:T19) -> 0 | W19: =U19-V19 -> 0
A20: 10.3 | C20: Офталмологија | I20: =SUM(F20:H20) -> 0 | L20: =(I20+J20)-K20 -> 0 | O20: =SUM(M20:N20) -> 0 | Q20: =O20-P20 -> 0 | U20: =SUM(R20:T20) -> 0 | W20: =U20-V20 -> 0
A21: 10.4 | C21: Оториноларингологија | I21: =SUM(F21:H21) -> 0 | L21: =(I21+J21)-K21 -> 0 | O21: =SUM(M21:N21) -> 0 | Q21: =O21-P21 -> 0 | U21: =SUM(R21:T21) -> 0 | W21: =U21-V21 -> 0
A22: 10.5 | C22: Психијатрија | I22: =SUM(F22:H22) -> 0 | L22: =(I22+J22)-K22 -> 0 | O22: =SUM(M22:N22) -> 0 | Q22: =O22-P22 -> 0 | U22: =SUM(R22:T22) -> 0 | W22: =U22-V22 -> 0
A23: 10.6 | C23: Физикална медицина и рехабилитација | G23: 1 | I23: =SUM(F23:H23) -> 1 | L23: =(I23+J23)-K23 -> 1 | N23: 4 | O23: =SUM(M23:N23) -> 4 | P23: 2 | Q23: =O23-P23 -> 2 | U23: =SUM(R23:T23) -> 0 | W23: =U23-V23 -> 0
A24: 10.7 | C24: Дерматовенерологија | I24: =SUM(F24:H24) -> 0 | L24: =(I24+J24)-K24 -> 0 | O24: =SUM(M24:N24) -> 0 | Q24: =O24-P24 -> 0 | U24: 0 | W24: =U24-V24 -> 0
A25: 11 | B25: Социјална медицина са информатиком | I25: =SUM(F25:H25) -> 0 | L25: =(I25+J25)-K25 -> 0 | O25: =SUM(M25:N25) -> 0 | Q25: =O25-P25 -> 0 | U25: 0 | W25: =U25-V25 -> 0
A26: 12 | B26: Остало* | I26: =SUM(F26:H26) -> 0 | L26: =(I26+J26)-K26 -> 0 | O26: =SUM(M26:N26) -> 0 | Q26: =O26-P26 -> 0 | U26: 0 | W26: =U26-V26 -> 0
B27: Број постеља/места | D27: Број смена | E27: Број дијализа годишње
A28: 13 | B28: Дијализе | I28: =SUM(F28:H28) -> 0 | L28: =(I28+J28)-K28 -> 0 | O28: =SUM(M28:N28) -> 0 | Q28: =O28-P28 -> 0 | U28: 0 | W28: =U28-V28 -> 0
A29: 14 | B29: Стационар | I29: =SUM(F29:H29) -> 0 | L29: =(I29+J29)-K29 -> 0 | O29: =SUM(M29:N29) -> 0 | Q29: =O29-P29 -> 0 | U29: 0 | W29: =U29-V29 -> 0
A30: 15 | B30: Породилиште | I30: =SUM(F30:H30) -> 0 | L30: =(I30+J30)-K30 -> 0 | O30: =SUM(M30:N30) -> 0 | Q30: =O30-P30 -> 0 | U30: 0 | W30: =U30-V30 -> 0
A31: 16 | B31: Заједничке службе* | I31: =SUM(F31:H31) -> 0 | L31: =(I31+J31)-K31 -> 0 | O31: =SUM(M31:N31) -> 0 | Q31: =O31-P31 -> 0 | U31: =SUM(R31:T31) -> 0 | W31: =U31-V31 -> 0
A32: 17.1 | B32: здравствена заштита радника | C32: Спец.медицине рада | I32: =SUM(F32:H32) -> 0 | L32: =(I32+J32)-K32 -> 0 | O32: =SUM(M32:N32) -> 0 | Q32: =O32-P32 -> 0 | U32: =SUM(R32:T32) -> 0 | W32: =U32-V32 -> 0
A33: 17.2 | C33: Офталмологија | I33: =SUM(F33:H33) -> 0 | L33: =(I33+J33)-K33 -> 0 | O33: =SUM(M33:N33) -> 0 | Q33: =O33-P33 -> 0 | U33: =SUM(R33:T33) -> 0 | W33: =U33-V33 -> 0
A34: 17.3 | C34: Оториноларингологија | I34: =SUM(F34:H34) -> 0 | L34: =(I34+J34)-K34 -> 0 | O34: =SUM(M34:N34) -> 0 | Q34: =O34-P34 -> 0 | U34: =SUM(R34:T34) -> 0 | W34: =U34-V34 -> 0
A35: 17.4 | C35: Психијатрија | I35: =SUM(F35:H35) -> 0 | L35: =(I35+J35)-K35 -> 0 | O35: =SUM(M35:N35) -> 0 | Q35: =O35-P35 -> 0 | U35: =SUM(R35:T35) -> 0 | W35: =U35-V35 -> 0
A36: УКУПНО | F36: =SUM(F7:F35) -> 2 | G36: =SUM(G7:G35) -> 4 | H36: =SUM(H7:H35) -> 11 | I36: =SUM(I7:I35) -> 17 | J36: =SUM(J7:J35) -> 0 | K36: =SUM(K7:K35) -> 14 | L36: =SUM(L7:L35) -> 3 | M36: =SUM(M7:M35) -> 32 | ... Z36: =SUM(Z7:Z35) -> 0
A37: *У колони "Организационе јединице по областима делатности" у делу који се односи на "Остало" и "Заједничке службе" потребно је обавезно у пратећем тексту навести структуру запослених здравствених радника и сарадника (занимање и специјалност)
A38: Напомена: Здравствени радници запослени у стоматологији и апотеци се приказују у посебним табелама за одговарајуће службе

Sheet СТОМАТОЛОГИЈА
A1: БРОЈ ЗДРАВСТВЕНИХ РАДНИКА У СЛУЖБИ ЗА СТОМАТОЛОШКУ ЗДРАВСТВЕНУ ЗАШТИТУ НА ДАН 31.3.2026. ГОДИНЕ
A2: ЗДРАВСТВЕНА УСТАНОВА | D2: ДОМ ЗДРАВЉА БАТОЧИНА
P3: Табела бр. 3
A4: Стоматолошка здравствена заштита | B4: Запослени на неодређено време који се финансирају из средстава обавезног здравственог осигурања | N4: Запослени на неодређено време који се финансирају из других средстава
B5: Доктор стоматологије | F5: Норматив | G5: Разлика | H5: Стоматолошка сестра ВШС/ССС | I5: Зубни техничар ВШС/ССС | J5: Норматив | L5: Разлика стоматолошке сестре | M5: Разлика зубни техничари
B6: Доктор стоматологије | C6: На специјализацији | D6: Специјалиста | E6: Укупно | J6: Стоматолошка сестра ВШС/ССС | K6: Зубни техничар ВШС/ССС | N6: Доктор стоматологије | O6: Стоматолошка сестра ВШС/ССС | P6: Зубни техничар ВШС/ССС
A7: Дечија и превентивна стоматологија | E7: =SUM(B7:D7) -> 0 | G7: =E7-F7 -> 0 | L7: =H7-J7 -> 0 | M7: =I7-K7 -> 0
A8: Ортопедија вилица | E8: =SUM(B8:D8) -> 0 | G8: =E8-F8 -> 0 | L8: =H8-J8 -> 0 | M8: 0
A9: Општа стоматологија | B9: 2 | E9: =SUM(B9:D9) -> 2 | F9: 2 | G9: =E9-F9 -> 0 | H9: 1 | J9: 2 | L9: =H9-J9 -> -1 | M9: 0
A10: Протетика | E10: =SUM(B10:D10) -> 0 | G10: =E10-F10 -> 0 | L10: =H10-J10 -> 0 | M10: 0
A11: Парoдонтологија и орална медицина | E11: =SUM(B11:D11) -> 0 | G11: =E11-F11 -> 0 | L11: =H11-J11 -> 0 | M11: 0
A12: Болести зуба са ендодонцијом | E12: =SUM(B12:D12) -> 0 | G12: =E12-F12 -> 0 | L12: =H12-J12 -> 0 | M12: 0
A13: Орална хирургија | E13: =SUM(B13:D13) -> 0 | G13: =E13-F13 -> 0 | L13: =H13-J13 -> 0 | M13: 0
A14: Радиолошка дијагностика | E14: =SUM(B14:D14) -> 0 | G14: =E14-F14 -> 0 | L14: =H14-J14 -> 0 | M14: 0
A15: УКУПНО: | B15: =SUM(B7:B14) -> 2 | C15: =SUM(C7:C14) -> 0 | D15: =SUM(D7:D14) -> 0 | E15: =SUM(B15:D15) -> 2 | F15: =SUM(F7:F14) -> 2 | G15: =SUM(G7:G14) -> 0 | H15: =SUM(H7:H14) -> 1 | I15: =SUM(I7:I14) -> 0 | J15: =SUM(J7:J14) -> 2 | K15: =SUM(K7:K14) -> 0 | L15: =SUM(L7:L14) -> -1 | M15: =SUM(M7:M14) -> 0 | ... P15: =SUM(P7:P14) -> 0

Sheet АПОТЕКА
A1: БРОЈ ЗДРАВСТВЕНИХ РАДНИКА У АПОТЕЦИ У СКЛОПУ ЗДРАВСТВЕНЕ УСТАНОВЕ НА ДАН 31.3.2026. ГОДИНЕ
A2: ЗДРАВСТВЕНА УСТАНОВА
N3: Табела бр. 4
A4: Организационе јединице (огранак или јединица за издавање готових лекова) | B4: Радно време | C4: Запослени на неодређено време
C5: Здравствени радници | I5: Немедицински радници
C6: Постојећи број дипл. Фармацеута | D6: Норматив | E6: Разлика | F6: Постојећи број фарм. Техничара | G6: Норматив | H6: разлика | I6: Постојећи број административних радника | J6: Норматив | K6: разлика | L6: Постојећи број техничких радника | M6: Норматив | N6: разлика
E7: =C7-D7 -> 0 | H7: =F7-G7 -> 0 | K7: =I7-J7 -> 0 | N7: =L7-M7 -> 0
E8: =C8-D8 -> 0 | H8: =F8-G8 -> 0 | K8: =I8-J8 -> 0 | N8: =L8-M8 -> 0
E9: =C9-D9 -> 0 | H9: =F9-G9 -> 0 | K9: =I9-J9 -> 0 | N9: =L9-M9 -> 0
E10: =C10-D10 -> 0 | H10: =F10-G10 -> 0 | K10: =I10-J10 -> 0 | N10: =L10-M10 -> 0
E11: =C11-D11 -> 0 | H11: =F11-G11 -> 0 | K11: =I11-J11 -> 0 | N11: =L11-M11 -> 0
E12: =C12-D12 -> 0 | H12: =F12-G12 -> 0 | K12: =I12-J12 -> 0 | N12: =L12-M12 -> 0
E13: =C13-D13 -> 0 | H13: =F13-G13 -> 0 | K13: =I13-J13 -> 0 | N13: =L13-M13 -> 0
E14: =C14-D14 -> 0 | H14: =F14-G14 -> 0 | K14: =I14-J14 -> 0 | N14: =L14-M14 -> 0
E15: =C15-D15 -> 0 | H15: =F15-G15 -> 0 | K15: =I15-J15 -> 0 | N15: =L15-M15 -> 0
E16: =C16-D16 -> 0 | H16: =F16-G16 -> 0 | K16: =I16-J16 -> 0 | N16: =L16-M16 -> 0
E17: =C17-D17 -> 0 | H17: =F17-G17 -> 0 | K17: =I17-J17 -> 0 | N17: =L17-M17 -> 0
E18: =C18-D18 -> 0 | H18: =F18-G18 -> 0 | K18: =I18-J18 -> 0 | N18: =L18-M18 -> 0
... E27: =C27-D27 -> 0 | H27: =F27-G27 -> 0 | K27: =I27-J27 -> 0 | N27: =L27-M27 -> 0
A28: УКУПНО | C28: =SUM(C7:C27) -> 0 | D28: =SUM(D7:D27) -> 0 | E28: =SUM(E7:E27) -> 0 | F28: =SUM(F7:F27) -> 0 | G28: =SUM(G7:G27) -> 0 | H28: =SUM(H7:H27) -> 0 | I28: =SUM(I7:I27) -> 0 | J28: =SUM(J7:J27) -> 0 | ... N28: =SUM(N7:N27) -> 0
K31: потпис и печат

Sheet НЕМЕД.РАДНИЦИ
A1: БРОЈ НЕМЕДИЦИНСКИХ РАДНИКА НА ДАН 31.3.2026. ГОДИНЕ
A2: ЗДРАВСТВЕНА УСТАНОВА | D2: ДОМ ЗДРАВЉА БАТОЧИНА
A4: Укупан број здравствених радника и сарадника са високом стручном спремом
A5: 22
M6: Табела бр. 5
A7: Назив организационе једицине | B7: Запослени на неодређено време који се финансирају из средстава обавезног здравственог осигурања | K7: Запослени на неодређено време који се финансирају из других средстава
B8: Административни | C8: Норматив | D8: разлика | E8: Технички и помоћни | F8: Норматив | G8: разлика | H8: Возачи ХМП | I8: Норматив | J8: разлика | K8: Административни | L8: Технички | M8: Возачи ХМП и санитет. превоза
A9: ДИЈАЛИЗА | D9: =B9-C9 -> 0 | G9: =E9-F9 -> 0 | J9: =H9-I9 -> 0
A10: Возачи санитетског превоза | D10: =B10-C10 -> 0 | E10: 6 | F10: 2 | G10: =E10-F10 -> 4 | H10: 5 | I10: 2 | J10: =H10-I10 -> 3
B11: 5 | C11: 4 | D11: =B11-C11 -> 1 | E11: 7 | F11: 7 | G11: =E11-F11 -> 0 | J11: =H11-I11 -> 0
D12: =B12-C12 -> 0 | G12: =E12-F12 -> 0 | J12: =H12-I12 -> 0
D13: =B13-C13 -> 0 | G13: =E13-F13 -> 0 | J13: =H13-I13 -> 0
D14: =B14-C14 -> 0 | G14: =E14-F14 -> 0 | J14: =H14-I14 -> 0
D15: =B15-C15 -> 0 | G15: =E15-F15 -> 0 | J15: =H15-I15 -> 0
D16: =B16-C16 -> 0 | G16: =E16-F16 -> 0 | J16: =H16-I16 -> 0
D17: =B17-C17 -> 0 | G17: =E17-F17 -> 0 | J17: =H17-I17 -> 0
D18: =B18-C18 -> 0 | G18: =E18-F18 -> 0 | J18: =H18-I18 -> 0
A19: УКУПНО | B19: =SUM(B9:B18) -> 5 | C19: =SUM(C9:C18) -> 4 | D19: =B19-C19 -> 1 | E19: =SUM(E9:E18) -> 13 | F19: =SUM(F9:F18) -> 9 | G19: =E19-F19 -> 4 | H19: =SUM(H9:H18) -> 5 | I19: =SUM(I9:I18) -> 2 | J19: =H19-I19 -> 3 | K19: =SUM(K9:K18) -> 0 | L19: =SUM(L9:L18) -> 0 | M19: =SUM(M9:M18) -> 0

Sheet ЗБИРНО КАДРОВИ 
A1: ЗДРАВСТВЕНА УСТАНОВА | B1: ДОМ ЗДРАВЉА БАТОЧИНА
A4: УКУПАН КАДАР У ЗДРАВСТВЕНОЈ УСТАНОВИ НА ДАН 31.3.2026.ГОДИНЕ
I5: ТАБЕЛА 6
B6: Број запослених на неодређено време који се финансирају из средстава обавезног здравственог осигурања | C6: Норматив | D6: Разлика | E6: Број запослених у апотеци на неодређено време | F6: Број запослених на неодређено време који се финансирају из других средстава | G6: Укупно запослених на неодређено време | H6: Број запослених на одређено време због замене одсутних запослених | I6: Број запослених на одређено време због повећаног обима рада | J6: Број запослених на одређено време који се финанисрају из средстава РФЗО | K6: Укупан број запослених на одређено и неодређено време који се финансирају из средстава РФЗО
A8: ДОКТОРИ МЕДИЦИНЕ | B8: ='ЗДР.РАД. И САРАД.'!I36 -> 17 | C8: =IF('ЗДР.РАД. И САРАД.'!J17>='ЗДР.РАД. И САРАД.'!K17,'ЗДР.РАД. И САРАД.'!K36-'ЗДР.РАД. И САРАД.'!K17,IF(('ЗДР.РАД. И САРАД.'!I17+'ЗДР.РАД. И САРАД.'!J17)<='ЗДР.РАД. И САРАД.'!K17,'ЗДР.РАД. И САРАД.'!K36-('ЗДР.РАД. И САРАД.'!K17-'ЗДР.РАД. И САРАД.'!I17),'ЗДР.РАД. И САРАД.'!K36-'ЗДР.РАД. И САРАД.'!J17)) -> 14 | D8: =B8-C8 -> 3 | F8: ='ЗДР.РАД. И САРАД.'!X36 -> 0 | G8: =SUM(B8,E8,F8) -> 17 | H8: 1 | I8: 2 | J8: 3 | K8: =SUM(B8,J8) -> 20
A9: ДОКТОРИ СТОМАТОЛОГИЈЕ | B9: =СТОМАТОЛОГИЈА!E15 -> 2 | C9: =СТОМАТОЛОГИЈА!F15 -> 2 | D9: =B9-C9 -> 0 | F9: =СТОМАТОЛОГИЈА!N15 -> 0 | G9: =SUM(B9,E9,F9) -> 2 | K9: =SUM(B9,J9) -> 2
A10: ФАРМАЦЕУТИ | B10: ='ЗДР.РАД. И САРАД.'!J36 -> 0 | C10: =IF('ЗДР.РАД. И САРАД.'!I17+'ЗДР.РАД. И САРАД.'!J17<='ЗДР.РАД. И САРАД.'!K17,'ЗДР.РАД. И САРАД.'!K17-'ЗДР.РАД. И САРАД.'!I17,IF('ЗДР.РАД. И САРАД.'!J17>'ЗДР.РАД. И САРАД.'!K17,'ЗДР.РАД. И САРАД.'!K17,'ЗДР.РАД. И САРАД.'!J17)) -> 0 | D10: =B10-C10 -> 0 | E10: =АПОТЕКА!C28 -> 0 | G10: =SUM(B10,E10,F10) -> 0 | K10: =SUM(B10,J10) -> 0
A11: МЕДИЦИНСКЕ СЕСТРЕ/ТЕХНИЧАРИ | B11: ='ЗДР.РАД. И САРАД.'!O36 -> 42 | C11: ='ЗДР.РАД. И САРАД.'!P36 -> 27 | D11: =B11-C11 -> 15 | F11: ='ЗДР.РАД. И САРАД.'!Y36 -> 0 | G11: =SUM(B11,E11,F11) -> 42 | H11: 2 | I11: 3 | J11: 3 | K11: =SUM(B11,J11) -> 45
A12: СТОМАТОЛОШКЕ СЕСТРЕ | B12: =СТОМАТОЛОГИЈА!H15 -> 1 | C12: =СТОМАТОЛОГИЈА!J15 -> 2 | D12: =B12-C12 -> -1 | F12: =СТОМАТОЛОГИЈА!O15 -> 0 | G12: =SUM(B12,E12,F12) -> 1 | I12: 1 | J12: 1 | K12: =SUM(B12,J12) -> 2
A13: ЗУБНИ ТЕХНИЧАРИ | B13: =СТОМАТОЛОГИЈА!I15 -> 0 | C13: =СТОМАТОЛОГИЈА!K15 -> 0 | D13: =B13-C13 -> 0 | F13: =СТОМАТОЛОГИЈА!P15 -> 0 | G13: =SUM(B13,E13,F13) -> 0 | K13: =SUM(B13,J13) -> 0
A14: ФАРМ.ТЕХНИЧАРИ | D14: =B14-C14 -> 0 | E14: =АПОТЕКА!F28 -> 0 | G14: =SUM(B14,E14,F14) -> 0 | K14: =SUM(B14,J14) -> 0
A15: ЗДРАВСТВЕНИ САРАДНИЦИ | B15: ='ЗДР.РАД. И САРАД.'!U36 -> 0 | C15: ='ЗДР.РАД. И САРАД.'!V36 -> 0 | D15: =B15-C15 -> 0 | F15: ='ЗДР.РАД. И САРАД.'!Z36 -> 0 | G15: =SUM(B15,E15,F15) -> 0 | K15: =SUM(B15,J15) -> 0
A16: НЕМЕДИЦИНСКИ АДМИНИСТРАТИВНИ РАДНИЦИ | B16: =НЕМЕД.РАДНИЦИ!B19 -> 5 | C16: =НЕМЕД.РАДНИЦИ!C19 -> 4 | D16: =B16-C16 -> 1 | E16: =АПОТЕКА!I28 -> 0 | F16: =НЕМЕД.РАДНИЦИ!K19 -> 0 | G16: =SUM(B16,E16,F16) -> 5 | I16: 1 | K16: =SUM(B16,J16) -> 5
A17: НЕМЕДИЦИНСКИ ТЕХНИЧКИ/ПОМОЋНИ РАДНИЦИ | B17: =НЕМЕД.РАДНИЦИ!E19+НЕМЕД.РАДНИЦИ!H19 -> 18 | C17: =НЕМЕД.РАДНИЦИ!F19+НЕМЕД.РАДНИЦИ!I19 -> 11 | D17: =B17-C17 -> 7 | E17: =АПОТЕКА!L28 -> 0 | F17: =НЕМЕД.РАДНИЦИ!L19+НЕМЕД.РАДНИЦИ!M19 -> 0 | G17: =SUM(B17,E17,F17) -> 18 | H17: 2 | I17: 2 | J17: 2 | K17: =SUM(B17,J17) -> 20
A18: УКУПНО | B18: =SUM(B8:B17) -> 85 | C18: =SUM(C8:C17) -> 60 | D18: =B18-C18 -> 25 | E18: =SUM(E8:E17) -> 0 | F18: =SUM(F8:F17) -> 0 | G18: =SUM(B18,E18,F18) -> 85 | H18: =SUM(H8:H17) -> 5 | I18: =SUM(I8:I17) -> 9 | J18: 9 | K18: =SUM(B18,J18) -> 94

Sheet Usluge_po_sluzbama
A1: Служба | B1: Категорије | C1: Шифра услуге | D1: Подкатегорије шифара | E1: Атрибут услуге | F1: АКТИВНОСТИ | G1: План 2026. | H1: Извршење јануар - март 2026. | J1: Напомена
A2: 1003 - Здравствена заштита деце предшколског узраста
B3: ПРЕВЕНТИВА/ Прегледи лекара | G3: =G4+G5+G9+G12+G13 -> 1779 | H3: =H4+H5+H9+H12+H13 -> 452 | I3: =H3/G3 -> 0.25407532
C4: 1100015 | F4: Превентивни преглед новорођенчади и одојчади у првој години живота | G4: 430 | H4: 121 | I4: =H4/G4 -> 0.28139535 | J4: (6 прегледа по детету)
C5: 1100023 | F5: Превентивни преглед деце од једне године до поласка у школу | G5: =SUM(G6:G8) -> 273 | H5: =SUM(H6:H8) -> 107 | I5: =H5/G5 -> 0.39194139
D6: 1100023 | F6: Превентивни преглед у 2. години (2 прегледа по детету) | G6: 124 | H6: 57 | I6: =H6/G6 -> 0.45967742
D7: 1100023 | F7: Превентивни преглед у 4. години | G7: 86 | H7: 50 | I7: =H7/G7 -> 0.58139535
D8: 1100023 | F8: Превентивни. преглед пред полазак у школу (6/7 година) | G8: 63 | I8: =H8/G8 -> 0
C9: 1100049 | F9: Контролни преглед деце, школске деце и омладине | G9: =SUM(G10:G11) -> 23 | H9: =SUM(H10:H11) -> 10 | I9: =H9/G9 -> 0.43478261
D10: 1100049 | F10: Контролни преглед деце (у 3. години) | G10: 15 | H10: 5 | I10: =H10/G10 -> 0.33333333
D11: 1100049 | F11: Контролни преглед деце (у 5. години) | G11: 8 | H11: 5 | I11: =H11/G11 -> 0.625
C12: 1100056 | F12: Превентивни преглед пре упућивања у установу за колективни боравак деце, школске деце и омладине | G12: 155 | H12: 12 | I12: =H12/G12 -> 0.077419355
C13: 1000025 | E13: * | F13: Спровођење имунизације, односно вакцинације | G13: 898 | H13: 202 | I13: =H13/G13 -> 0.22494432 | J13: * Број ових услуга не подразумева број свих спроведених вакцинација, већ само оних које нису спроведене у склопу превентивних и контролних прегледа
C14: 2200128 | F14: Ултразвучни преглед новорођенчади ради раног откривања дисплазије кукова
B15: KУРАТИВА/ Прегледи лекара | G15: =SUM(G16:G24) -> 4779 | H15: =SUM(H16:H24) -> 1356 | I15: =H15/G15 -> 0.28374137
C16: 1100064 | F16: Први преглед деце, школске деце и омладине ради лечења | G16: 3256 | H16: 919 | I16: =H16/G16 -> 0.28224816
C17: 1100072 | F17: Поновни преглед деце, школске деце и омладине ради лечења | G17: 1476 | H17: 408 | I17: =H17/G17 -> 0.27642276
C18: 1100080 | F18: Посебни преглед деце, школске деце и омладине ради допунске дијагностике и даљег лечења | G18: 5 | H18: 1 | I18: =H18/G18 -> 0.2
C19: 1100081 | F19: Посебни преглед гојазне и предгојазне деце, школске деце и омладине | G19: 5 | H19: 1 | I19: =H19/G19 -> 0.2
C20: 1200055 | F20: Збрињавање особе изложене насиљу
C21: 1000017 | F21: Кратка посета изабраном лекару/доктор медицине одговарајуће специјалности | G21: 2 | I21: =H21/G21 -> 0
C22: 1200056 | F22: Анализа лабораторијских налаза | G22: 35 | H22: 27 | I22: =H22/G22 -> 0.77142857
C23: 2200103 | F23: Ултразвучни преглед уротракта
C24: 2200079 | F24: Ултразвучни преглед абдомена
B25: ДИЈАГНОСТИЧКО ТЕРАПИЈСКЕ УСЛУГЕ | G25: =SUM(G26:G35) -> 260 | H25: =SUM(H26:H35) -> 35 | I25: =H25/G25 -> 0.13461538
C26: 1000058 | F26: Узимање материјала за анализу и тестирање
C27: 1000124 | F27: Инцизија/ дренажа/ испирање/ одстрањивање течних продуката упалних процеса - опште
C28: 1000132 | F28: Ексцизија/ одстрањивање ткива/ деструкција/ чишћење ране/ каутеризација - опште | G28: 98 | H28: 7 | I28: =H28/G28 -> 0.071428571
C29: 1000140 | F29: Инструментација/ катетеризација - опште
C30: 1000157 | F30: Намештање/ фиксација - опште
C31: 1000165 | F31: Медикација/локална ињекција/ инфилтрација/ апликација лека | G31: 71 | H31: 20 | I31: =H31/G31 -> 0.28169014
C32: 1000173 | F32: Завоји/ компресивни завој/ компресија/ тампонада | G32: 91 | H32: 7 | I32: =H32/G32 -> 0.076923077
C33: 1000116 | F33: Електрофизиолошко снимање везано за кардиоваскуларни систем
C34: 1200057 | F34: Мерење крвног притиска | H34: 1
C35: 1000181 | F35: Сложене терапеутске процедуре/ мање хируршке интервенције
B36: ЗДРАВСТВЕНО ВАСПИТАЊЕ | G36: =G37+G38 -> 301 | H36: =H37+H38 -> 74 | I36: =H36/G36 -> 0.24584718
C37: 1000215 | F37: Индивидуални здравствено - васпитни рад | G37: 301 | H37: 74 | I37: =H37/G37 -> 0.24584718
C38: 1000207 | F38: Групни здравствено-васпитни рад | G38: =SUM(G39:G40) -> 0 | H38: =SUM(H39:H40) -> 0
D39: 1000207 | E39: 00 | F39: Радионице
D40: 1000207 | E40: 05 | F40: Предавања
B41: УКУПАН БРОЈ ПОСЕТА | G41: =G3+G15+G25+G36 -> 7119 | H41: =H3+H15+H25+H36 -> 1917 | I41: =H41/G41 -> 0.26927939
A43: 1058 - Развојно саветовалиште
B44: РАД ЛЕКАРА
C45: 1100049 | F45: Контролни преглед деце, школске деце и омладине
C46: 1100082 | F46: Први преглед деце, школске деце и омладине у развојном саветовалишту
C47: 1100083 | F47: Контролни преглед деце, школске деце и омладине у развојном саветовалишту
C48: 1100084 | F48: Посебни преглед деце, школске деце и омладине ради допунске дијагностике и даљег лечења у развојном саветовалишту
C49: 1100085 | F49: Тимски преглед деце, школске деце и омладине у развојном саветовалишту
C50: 1100098 | F50: Први тимски преглед, тимска процена и евалуација деце, школске деце и омладине од најмање два члана тима за ране интервенције путем доступних информационих и комуникационих технологија
C51: 1100106 | F51: Контролни тимски преглед, тимска процена и евалуација деце, школске деце и омладине у развојном саветовалишту од најмање два члана тима за ране интервенције
C52: 1100114 | F52: Контролни тимски преглед, тимска процена и евалуација деце, школске деце и омладине од најмање два члана тима за ране интервенције путем доступних информационих и комуникационих технологија
C53: 1100122 | F53: Посебни преглед за рано препознавање развојног кашњења детета од рођења до поласка у школу (у узрасту од 9, 18 и 30 месеци односно 12, 24 и 36 месеца када се посумња на развојне ризике и кашњења
C54: 1200056 | F54: Анализа лабораторијских налаза
C55: 1200057 | F55: Мерење крвног притиска
C56: 1200055 | F56: Збрињавање особе изложене насиљу
B57: РАД ПСИХОЛОГА
C58: 1900026 | F58: Тест психичких функција
C59: 1900034 | F59: Индивидуална психотерапија
C60: 1900035 | F60: Индивидуални рад психолога са дететом и породицом
C61: 1900042 | F61: Групна психотерапија
C62: 1900059 | F62: Индивидуални рад психолога са дететом и породицом путем доступних информационих и комуникационих технологија
C63: 1900067 | F63: Индивидуални рад психолога са дететом и породицом у развојном саветовалишту
B64: РАД ДЕФЕКТОЛОГА (ЛОГОПЕДА)
C65: 1700038 | F65: Тест функције говора | G65: =SUM(G66:G68) -> 0 | H65: =SUM(H66:H68) -> 0
D66: 1700038 | F66: Тест функције говора (по упуту педијатра за све узрасте)
D67: 1700038 | F67: Тест функције говора (у склопу превентивног прегледа у 4. години)
D68: 1700038 | F68: Тест функције говора (у склопу превентивног прегледа 6/7 година)
C69: 1700054 | F69: Логопедски третман
C70: 1700111 | F70: Индивидуални рад логопеда са дететом и породицом у оквиру ране интервенције на терену
C71: 1700129 | F71: Индивидуални рад логопеда са дететом и породицом у оквиру ране интервенције путем доступних информационих и комуникационих технологија
C72: 1700137 | F72: Индивидуални рад логопеда са дететом и породицом у оквиру ране интервенције у развојном саветовалишту
C73: 1700055 | F73: Дефектолошки третман
C74: 1700145 | F74: Индивидуални рад дефектолога са дететом и породицом на терену
C75: 1700152 | F75: Индивидуални рад дефектолога са дететом и породицом путем доступних информационих и комуникационих технологија
C76: 1800234 | F76: Радна терапија за децу са сметњама у развоју
C77: 1800242 | F77: Радна терапија за децу са сметњама у развоју на терену
B78: РАД СОЦИЈАЛНОГ РАДНИКА
C79: 1000215 | F79: Индивидуални здравствено - васпитни рад
C80: 1000207 | F80: Групни здравствено-васпитни рад | G80: =SUM(G90:G91) -> 0 | H80: =SUM(H90:H91) -> 0
D81: 1000207 | E81: 00 | F81: Радионице
D82: 1000207 | E82: 05 | F82: Предавања
C83: 1000280 | F83: Групни здравствено васпитни и саветодавно терапијски рад са родитељима деце са сметњама у развоју
C84: 1000298 | F84: Групни здравствено васпитни и саветодавно терапијски рад са родитељима деце са сметњама у развоју путем доступних информационих и комуникационих технологија
C85: 1900075 | F85: Индивидуални рад социјалног радника са дететом и породицом у развојном саветовсалишту
C86: 1900083 | F86: Индивидуални рад социјалног радника са дететом и породицом на терену
C87: 1900091 | F87: Индивидуални рад социјалног радника са дететом и породицом путем доступних информационих и комуникационих технологија
C88: 1900109 | F88: Први разговор са здравственим сарадником ради укључивања у ране интервенције у развојном саветовалишту
C89: 1900117 | F89: Први разговор са здравственим сарадником ради укључивања у ране интервенције путем доступних информационих и комуникационих технологија
B92: БРОЈ КОРИСНИКА УСЛУГА
B93: УКУПАН БРОЈ ПОСЕТА
A95: 1004 - Здравствена заштита деце школског узраста
B96: ПРЕВЕНТИВА/ Прегледи лекара | G96: =G97+G104+G111+G112+G113+G114+G115 -> 841 | H96: =H97+H104+H111+H112+H113+H114+H115 -> 270 | I96: =H96/G96 -> 0.32104637
C97: 1100031 | F97: Превентивни преглед школске деце и омладине | G97: =SUM(G98:G103) -> 466 | H97: =SUM(H98:H103) -> 88 | I97: =H97/G97 -> 0.1888412
D98: 1100031 | F98: Превентивни преглед у осмој години (I разред OШ) | G98: 73 | H98: 10 | I98: =H98/G98 -> 0.1369863
D99: 1100031 | F99: Превентивни преглед у десетој години (III разред OШ) | G99: 73 | H99: 8 | I99: =H99/G99 -> 0.10958904
D100: 1100031 | F100: Превентивни преглед у дванаестој години (V разред OШ) | G100: 91 | H100: 12 | I100: =H100/G100 -> 0.13186813
D101: 1100031 | F101: Превентивни преглед у четрнаестој годинири (VII разред ОШ) | G101: 82 | H101: 24 | I101: =H101/G101 -> 0.29268293
D102: 1100031 | F102: Превентивни преглед у шеснаестој години (I разред СШ) | G102: 73 | H102: 20 | I102: =H102/G102 -> 0.2739726
D103: 1100031 | F103: Превентивни преглед у осамнаестој години (III разред СШ) | G103: 74 | H103: 14 | I103: =H103/G103 -> 0.18918919
C104: 1100049 | F104: Контролни преглед деце, школске деце и омладине | G104: =SUM(G105:G110) -> 36 | H104: =SUM(H105:H110) -> 5 | I104: =H104/G104 -> 0.13888889
...

Sheet Zbirna(Pivot)
B1: Desni klik na bilo koje polje u pivot tabeli i opcija refresh će povući izmenjene podatke iz tabele Usluge_po_službama
A3: Шифра услуге | B3: АКТИВНОСТИ | C3: Број услуга - План 2026. | D3: Извршење услуга јануар - март 2026.
A4: 1000017 | B4: Кратка посета изабраном лекару/доктор медицине одговарајуће специјалности | C4: 957 | D4: 320
A5: 1000025 | B5: Спровођење имунизације, односно вакцинације | C5: 2052 | D5: 351
A6: 1000033 | B6: Посета патронажне сестре новорођенчету и породиљи (0-1 месец) | C6: 420 | D6: 217
A7: 1000041 | B7: Посета патронажне сестре породици | C7: 793 | D7: 132
A8: 1000058 | B8: Узимање материјала за анализу и тестирање | C8: 329 | D8: 93
A9: 1000066 | B9: Лекарски преглед на терену | C9: 230 | D9: 71
A10: 1000074 | B10: Здравствена нега болесника у стану/кући
A11: 1000082 | B11: Неуролошки преглед - први
A12: 1000090 | B12: Тест функције кардиоваскуларног система
A13: 1000108 | B13: Тест функције плућа и дисајних путева
A14: 1000116 | B14: Електрофизиолошко снимање везано за кардиоваскуларни систем | C14: 888 | D14: 198
A15: 1000124 | B15: Инцизија/ дренажа/ испирање/ одстрањивање течних продуката упалних процеса - опште | C15: 363 | D15: 26
A16: 1000132 | B16: Ексцизија/ одстрањивање ткива/ деструкција/ чишћење ране/ каутеризација - опште | C16: 5893 | D16: 1233
A17: 1000140 | B17: Инструментација/ катетеризација - опште
A18: 1000157 | B18: Намештање/ фиксација - опште
A19: 1000165 | B19: Медикација/локална ињекција/ инфилтрација/ апликација лека | C19: 25851 | D19: 7176
A20: 1000173 | B20: Завоји/ компресивни завој/ компресија/ тампонада | C20: 8238 | D20: 1615
A21: 1000181 | B21: Сложене терапеутске процедуре/ мање хируршке интервенције
A22: 1000207 | B22: Групни здравствено-васпитни рад | C22: 174 | D22: 58
A23: 1000215 | B23: Индивидуални здравствено - васпитни рад | C23: 1564 | D23: 926
A24: 1000215-T | B24: Индивидуални здравствено васпитни рад - телефонско саветовалиште Деца Србије | C24: 150 | D24: 64
A25: 1000223 | B25: Скрининг/ рано откривање рака дебелог црева (организовани скрининг) | C25: 576 | D25: 43
A26: 1000231 | B26: Санитетски превоз | C26: 253923 | D26: 59700
A27: 1000272 | B27: Терапеутска процедура која се односи на болести срца и крвних судова
A28: 1100015 | B28: Превентивни преглед новорођенчади и одојчади у првој години живота | C28: 430 | D28: 121
A29: 1100023 | B29: Превентивни преглед деце од једне године до поласка у школу | C29: 273 | D29: 107
A30: 1100031 | B30: Превентивни преглед школске деце и омладине | C30: 466 | D30: 88
A31: 1100032 | B31: Утврђивање опште здравствене способности деце од шест до 14 година живота за бављење спортским активностима
A32: 1100033 | B32: Утврђивање посебне здравствене способности деце од шест до 14 година живота за бављење спортским активностима
A33: 1100034 | B33: Контролни преглед деце од шест до 14 година живота за утврђивање опште, односно посебне здравствене способности за бављење спортским активностима
A34: 1100049 | B34: Контролни преглед деце, школске деце и омладине | C34: 59 | D34: 15
A35: 1100056 | B35: Превентивни преглед пре упућивања у установу за колективни боравак деце, школске деце и омладине | C35: 399 | D35: 182
A36: 1100064 | B36: Први преглед деце, школске деце и омладине ради лечења | C36: 7771 | D36: 1869
A37: 1100072 | B37: Поновни преглед деце, школске деце и омладине ради лечења | C37: 3086 | D37: 703
A38: 1100080 | B38: Посебни преглед деце, школске деце и омладине ради допунске дијагностике и даљег лечења | C38: 20 | D38: 2
A39: 1100081 | B39: Посебни преглед гојазне и предгојазне деце, школске деце и омладине | C39: 25 | D39: 36
A40: 1100082 | B40: Први преглед деце, школске деце и омладине у развојном саветовалишту
A41: 1100083 | B41: Контролни преглед деце, школске деце и омладине у развојном саветовалишту
A42: 1100084 | B42: Посебни преглед деце, школске деце и омладине ради допунске дијагностике и даљег лечења у развојном саветовалишту
A43: 1100085 | B43: Тимски преглед деце, школске деце и омладине у развојном саветовалишту
A44: 1200013 | B44: Превентивни преглед одраслих | C44: 350 | D44: 135
A45: 1200039 | B45: Први преглед одраслих ради лечења | C45: 34940 | D45: 10004
A46: 1200047 | B46: Поновни преглед одраслих ради лечења | C46: 24496 | D46: 4109
A47: 1200054 | B47: Посебни преглед одраслих ради допунске дијагностике и даљег лечења | C47: 10 | D47: 2
A48: 1200055 | B48: Збрињавање особе изложене насиљу | C48: 2 | D48: 1
A49: 1200056 | B49: Анализа лабораторијских налаза | C49: 5074 | D49: 1398
A50: 1200057 | B50: Мерење крвног притиска | C50: 3879 | D50: 1277
A51: 1200062 | B51: Скрининг/ рано откривање дијабетеса типа 2 | C51: 322 | D51: 52
A52: 1200063 | B52: Циљани преглед пацијента са позитивним резултатом Упитника процене ризика за дијабетес тип 2
A53: 1200064 | B53: Циљани преглед стопала - процена ризика за настанак компликација дијабетеса
A54: 1200065 | B54: Посета изабраном лекару у циљу превенције дијабетесне ретинопатије
A55: 1200070 | B55: Скрининг/ рано откривање кардиоваскуларног ризика | C55: 350 | D55: 41
A56: 1200088 | B56: Скрининг/ рано откривање депресије | C56: 609 | D56: 368
A57: 1300011 | B57: Превентивни гинеколошки преглед | C57: 341 | D57: 19
A58: 1300029 | B58: Скрининг/рано откривање рака грлића материце – узимање бриса за ПАП тест | C58: 333 | D58: 78
A59: 1300037 | B59: Превентивни преглед труднице | C59: 220 | D59: 84
A60: 1300038 | B60: Циљани преглед труднице ради раног откривања ЕПХ гестозе | C60: 82 | D60: 30
A61: 1300039 | B61: Циљани преглед труднице ради раног откривања гестацијског дијабетеса | C61: 81 | D61: 30
A62: 1300040 | B62: Инспекција и палпаторни преглед дојки | C62: 457 | D62: 125
A63: 1300041 | B63: Ултразвучни прегелед труднице | C63: 449 | D63: 102
A64: 1300042 | B64: Ултразвучни преглед жена невезано за трудноћу | C64: 502 | D64: 129
A65: 1300043 | B65: Ултразвучни преглед дојке | C65: 182 | D65: 43
A66: 1300044 | B66: Скрининг/рано откривање рака грлића материце - супервизијски преглед плочице
A67: 1300045 | B67: Контролни преглед труднице | C67: 1346 | D67: 343
A68: 1300046 | B68: Скрининг / рано откривање рака грлића материце - обавештавање жена о налазу ПАП теста/ издавање резултата | C68: 252 | D68: 105
A69: 1300047 | B69: Скрининг / рано откривање рака - позивање учесника на скрининг | C69: 370 | D69: 132
A70: 1300052 | B70: Психофизичка припрема труднице за порођај | C70: 43 | D70: 19
A71: 1300060 | B71: Први гинеколошки преглед ради лечења | C71: 1037 | D71: 300
A72: 1300078 | B72: Поновни гинеколошки преглед ради лечења | C72: 589 | D72: 126
A73: 1300086 | B73: Електрофизиолошко снимање у гинекологији и акушерству | C73: 200 | D73: 55
A74: 1300094 | B74: Дијагностички тест за испитивање обољења репродуктивних органа жене | C74: 264 | D74: 76
A75: 1300102 | B75: Инцизија/ дренажа/ испирање/ аспирација течних продуката упалних процеса репродуктивних органа жене
A76: 1300110 | B76: Ексцизија/ одстрањивање ткива/ деструкција/ чишћење ране/ каутеризација промена које се односе на репродуктивне органе жене
A77: 1300129 | B77: Инструментација, пласирање интраутериног и вагиналног уређаја
A78: 1300130 | B78: Инструментација, екстракција интраутериног и вагиналног уређаја
A79: 1300136 | B79: Ексфолијативна цитологија ткива репродуктивних органа жене - неаутоматизована припрема и неаутоматизовано бојење | C79: 1951 | D79: 523
A80: 1300151 | B80: Превентивни преглед у вези са планирањем породице | C80: 23 | D80: 5
A81: 1300169 | B81: Превентивни преглед породиље | C81: 48 | D81: 15
A82: 1300177 | B82: Сложена гинеколошко-акушерска процедура
A83: 1300185 | B83: Посебни гинеколошки преглед ради допунске дијагностике и даљег лечења
A84: 1400019 | B84: Интернистички преглед - први | C84: 0 | D84: 0
A85: 1500016 | B85: Пнеумофтизиолошки преглед - први | C85: 0 | D85: 0
A86: 1500024 | B86: Терапеутска процедура која се односи на болести плућа и дисајних путева
A87: 1500032 | B87: Тест осетљивости
A88: 1600014 | B88: Офталмолошки преглед - први | C88: 0 | D88: 0
A89: 1600022 | B89: Дијагностички тест за испитивање мотилитета ока и разрокости
A90: 1600030 | B90: Дијагностички тест за испитивање колорног вида
A91: 1600048 | B91: Дијагностички тест за испитивање бинокуларног вида
A92: 1600055 | B92: Дијагностички тест за испитивање прекорнеалног филма
A93: 1600063 | B93: Инцизија/ дренажа/ испирање/ аспирација/ одстрањивање течних продуката упалних процеса предела ока и припојака ока
A94: 1600071 | B94: Инструментација која се односи на предео ока и припојака ока
A95: 1600089 | B95: Медикација/локална ињекција/ инфилтрација/ апликација лека која се односи на предео ока и припојака ока
A96: 1600097 | B96: Завој/ тампонада која се односи на предео ока и припојака ока
A97: 1600105 | B97: Терапеутска процедура које се односи на предео ока и припојака ока
A98: 1700012 | B98: ОРЛ преглед - први | C98: 0 | D98: 0
A99: 1700020 | B99: Тест функције чула слуха
A100: 1700038 | B100: Тест функције говора | C100: 0 | D100: 0
A101: 1700046 | B101: Тест функције чула равнотеже
...

Sheet ЛЕКОВИ
A1: ЛЕКОВИ ЗА ОСИГУРАНА ЛИЦА РФЗО* Табела бр.9
A2: Листа лекова | B2: Врста лека по ЈКЛ | C2: Шифра лека (АТЦ) | D2: Заштићено име лека | E2: Фармацеутски облик | F2: Паковање и јачина | G2: УТРОШЕНО
G3: План 2026. | J3: Извршење јануар - март 2026.
G4: Количина | H4: Цена по паковању | I4: Укупна вредност | J4: Количина | K4: Цена по паковању | L4: Укупна вредност
A5: 0 | B5: 1 | C5: 2 | D5: 3 | E5: 4 | F5: 5 | G5: 6 | H5: 7 | I5: 8 | J5: 9 | K5: 10 | L5: 11
A6: Листа А
A11: Листа А1
A16: Листа Б | C16: 20056 | D16: PANCILLIN | E16: prašak za suspenziju za injekciju | F16: 800.000 i.j. (600.000 i.j.+ 200.000 i.j.) | G16: 1150 | H16: 54.81 | I16: 63036.16 | J16: 350 | K16: =L16/J16 -> 54.803571 | L16: 19181.25
C17: 162522 | D17: ZODOL® | E17: rastvor za injekciju | F17: 30 mg/ml | G17: 3188 | H17: 75.4 | I17: 240370.43 | J17: 760 | K17: =L17/J17 -> 75.768 | L17: 57583.68
C18: 4156474 | D18: JODOKOMP | E18: rastvor za kožu | F18: 500 ml (10 %) | G18: 64 | H18: 245.99 | I18: 15743.64
C19: 400430 | D19: MANITOL | E19: rastvor za infuziju | F19: 250 ml 20% | G19: 700 | H19: 349.99 | I19: 244991.57 | J19: 150 | K19: =L19/J19 -> 351.871 | L19: 52780.65
C20: 141135 | D20: METHYLERGOMETRIN | E20: injekcija | F20: 0,2 mg/ml
C21: 87531 | D21: TRODON | E21: rastvor za injekciju | F21: 50 mg/ml | G21: 90 | H21: 36.05 | I21: 3244.57 | J21: 25 | K21: =L21/J21 -> 36.2508 | L21: 906.27
C22: 87533 | D22: TRODON | E22: rastvor za injekciju | F22: 100 mg/2 ml | G22: 25 | H22: 50.23 | I22: 1255.72
C23: 128620 | D23: RANITIDIN | E23: rastvor za injekciju/ infuziju | F23: 50 mg
C24: 0173220/ 0173305 | D24: GLUCOSI INFUNDIBILE 5%/GLUKOZA 5% B.BRAUN | E24: rastvor za infuziju | F24: 500 ml (5%) | G24: 200 | H24: 72 | I24: 14399.57 | J24: 40 | K24: =L24/J24 -> 83.08775 | L24: 3323.51
C25: 0173225/ 0173300 | D25: GLUCOSI INFUNDIBILE 10%/GLUKOZA 10% B.BRAUN | E25: rastvor za infuziju | F25: 500 ml (10%) | G25: 60 | H25: 89.58 | I25: 5374.82
C26: 0175315/ 0175260 | D26: RINGEROV RASTVOR B.BRAUN/NATRII CHLORIDI INFUNDIBILE COMP. (RINGEROV RASTV) | E26: rastvor za infuziju | F26: 500 ml (8,6 g/l + 0,3 g/l+ 0,33 g/l) | G26: 730 | H26: 84.8 | I26: 61901.32 | J26: 146 | K26: =L26/J26 -> 104.05603 | L26: 15192.18
C27: 0175240/ 0175310 | D27: NATRII CHLORIDI INFUNDIBILE/NATRIJUM HLORID 0.9% B.BRAUN | E27: rastvor za infuziju | F27: 500 ml (9g/l) | G27: 2580 | H27: 77.16 | I27: 199082.2 | J27: 670 | K27: =L27/J27 -> 94.232493 | L27: 63135.77
C28: 47218 | D28: LEMOD SOLU | E28: injekcija/ prašak i rastvarač za rastvor za injekciju/ infuziju | F28: 40 mg | G28: 2040 | H28: 116.18 | I28: 237000.46 | J28: 615 | K28: =L28/J28 -> 123.53088 | L28: 75971.49
C29: 123140 | D29: BUSCOPAN | E29: rastvor za injekciju | F29: 20 mg/1 ml | G29: 510 | H29: 36.35 | I29: 18537.05 | J29: 90 | K29: =L29/J29 -> 36.278222 | L29: 3265.04
C30: 124302 | D30: KLOMETOL | E30: rastvor za injekciju | F30: 10 mg/2 ml | G30: 940 | H30: 22.63 | I30: 21273.58 | J30: 160 | K30: =L30/J30 -> 22.557562 | L30: 3609.21
C31: 51845 | D31: VITAMIN C | E31: rastvor za injekciju | F31: 500 mg/5 ml | G31: 1900 | H31: 37.39 | I31: 71032.17 | J31: 500 | K31: =L31/J31 -> 37.268 | L31: 18634
C32: 51351 | D32: BEDOXIN | E32: injekcija | F32: 50 mg/2 ml | G32: 1400 | H32: 22.57 | I32: 31599.6 | J32: 350 | K32: =L32/J32 -> 25.373857 | L32: 8880.85
C33: 62002 | D33: INIXA 4000 | E33: injekcija | G33: 395 | H33: 357.46 | I33: 148307.89 | J33: 333 | K33: =L33/J33 -> 374.15402 | L33: 124593.29
C34: 62004 | D34: INIXA 6000 | E34: injekcija | G34: 168 | H34: 472.43 | I34: 79367.89 | J34: 138 | K34: =L34/J34 -> 470.77804 | L34: 64967.37
C35: 62005 | D35: INIXA 8000 | E35: injekcija | G35: 208 | H35: 546.7 | I35: =G35*H35 -> 113713.6 | J35: 110 | K35: =L35/J35 -> 544.819 | L35: 59930.09
C36: 62206 | D36: CLEXANE | E36: rastvor za injekciju | F36: 4000 i.j./0,4 ml | G36: 600 | H36: 403.09 | I36: 241855.69 | J36: 100 | K36: =L36/J36 -> 374.1539 | L36: 37415.39
C37: 62207 | D37: CLEXANE | E37: rastvor za injekciju | F37: 6000 i.j./0,6 ml | G37: 600 | H37: 499.58 | I37: 299748 | J37: 64 | K37: =L37/J37 -> 470.77812 | L37: 30129.8
C38: 62208 | D38: CLEXANE | E38: rastvor za injekciju | F38: 8000 i.j./0,8 ml | G38: 257 | H38: 601.36 | I38: 154549.52 | J38: 20 | K38: =L38/J38 -> 544.786 | L38: 10895.72
C39: 62300 | D39: FRAXIPARINE | E39: rastvor za injekciju | F39: 2850 i.j./03 ml | G39: 500 | H39: 280.3 | I39: 140150 | J39: 92 | K39: =L39/J39 -> 199.75717 | L39: 18377.66
C40: 62400 | D40: FRAXIPARINE | E40: rastvor za injekciju | F40: 3800 i.j./04 ml | G40: 1400 | H40: 345.32 | I40: 483448 | J40: 262 | K40: =L40/J40 -> 347.85531 | L40: 91138.09
C41: 62302 | D41: FRAXIPARINE | E41: rastvor za injekciju | F41: 5700 i.j./06 ml | G41: 500 | H41: 407.53 | I41: 203765 | J41: 178 | K41: =L41/J41 -> 433.65303 | L41: 77190.24
C42: 51560 | D42: OHB 12 | E42: rastvor za injekciju | F42: 2500 mcg/2 ml | G42: 1650 | H42: 83.88 | I42: 138409.94 | J42: 435 | K42: =L42/J42 -> 91.52 | L42: 39811.2
C43: 400411 | D43: FUROSEMID SOPHARMA | E43: rastvor za injekciju | F43: 20 mg | G43: 510 | H43: 39.5 | I43: 20145 | J43: 50 | K43: =L43/J43 -> 37.037 | L43: 1851.85
C44: 47140 | D44: DEXASON | E44: rastvor za injekciju | F44: 4 mg/ml | G44: 3175 | H44: 43.39 | I44: 137778.77 | J44: 635 | K44: =L44/J44 -> 43.626 | L44: 27702.51
C45: 0024552 0024580 | D45: GENTAMICIN/GENTAMICIN | E45: rastvor za injekciju | F45: 80 mg/2 ml | G45: 310 | H45: 37.73 | I45: 11696.3 | J45: 110 | K45: =L45/J45 -> 38.674909 | L45: 4254.24
C46: 0024553 0024582 | D46: GENTAMICIN/GENTAMICIN | E46: rastvor za injekciju | F46: 120 mg/2 ml | G46: 2900 | H46: 63.27 | I46: 183480.55 | J46: 520 | K46: =L46/J46 -> 64.233654 | L46: 33401.5
C47: 13168 | D47: TETAGAM P | E47: rastvor za injekciju u napunjenom injekcionom špricu | F47: 250 i.j./ml | G47: 290 | H47: 1316.37 | I47: 381747.31 | J47: 56 | K47: =L47/J47 -> 2081.1232 | L47: 116542.9
C48: 0162440 0162192 | D48: DIKLOFEN/DIKLOFENAK | E48: rastvor za injekciju | F48: 75 mg/3 ml | G48: 3320 | H48: 23.56 | I48: 78234.31 | J48: 890 | K48: =L48/J48 -> 23.947011 | L48: 21312.84
C49: 81540 | D49: LIDOKAIN 2%-ADRENALIN | E49: rastvor za injekciju | F49: 2 ml (40 mg+0,025 mg) | G49: 300 | H49: 19.91 | I49: 5974.11 | J49: 100 | K49: =L49/J49 -> 22.055 | L49: 2205.5
C50: 86431 | D50: NOVALGETOL | E50: rastvor za injekciju | F50: 2,5 g/5 ml | J50: 50 | K50: =L50/J50 -> 30.998 | L50: 1549.9
C51: 71123 | D51: BENSEDIN | E51: rastvor za injekciju/ infuziju | F51: 10 mg/2 ml | G51: 1860 | H51: 28.32 | I51: 52681.97 | J51: 600 | K51: =L51/J51 -> 35.123 | L51: 21073.8
C52: 58334 | D52: SYNOPEN | E52: rastvor za injekciju | F52: 20 mg/2 ml | G52: 350 | H52: 89.15 | I52: 31204.14 | J52: 50 | K52: =L52/J52 -> 94.6102 | L52: 4730.51
C53: N004044 | D53: ALERGOZAN | E53: rastvor za injekciju | F53: 20 mg/ 2ml
C54: 70261 | D54: MODITEN DEPO | E54: rastvor za injekciju | F54: 25 mg/ml | G54: 10 | H54: 330.63 | I54: 3306.33
C55: 10200 | D55: VIEKVIN | E55: rastvor za injekciju | F55: 5ml
C56: 176042 | D56: VODA ZA INJEKCIJE | E56: rastvor za injekciju | F56: 5 ml | G56: 800 | H56: 15.15 | I56: 12121.6 | J56: 300 | K56: =L56/J56 -> 15.076867 | L56: 4523.06
C57: N003914 | D57: ADRENALINE INJECTION/DEMO | E57: rastvor za injekciju | F57: 1 mg/ml | J57: 10 | K57: =L57/J57 -> 44.367 | L57: 443.67
D58: METOTREXAT EBEWE | E58: rastvor za injekciju | F58: 0.75.ml | J58: 10 | K58: =L58/J58 -> 1274.68 | L58: 12746.8
D59: METOTREXAT EBEWE | E59: rastvor za injekciju | F59: 0.2 ml
C60: 107497 | D60: PRESOLOL | E60: rastvor za injekciju | F60: 0.5 ml
C61: 0049233 | D61: SOMATULINE AUTOGEL | E61: rastvor za injekciju | G61: 24 | H61: 126646.08 | I61: =G61*H61 -> 3039505.9 | J61: 5 | K61: =L61/J61 -> 104456.99 | L61: 522284.95
C62: ND00019 | D62: KETOROLAC | E62: rastvor za injekciju
C63: 0059018 | D63: PROLIA | E63: rastvor za injekciju | J63: 1 | K63: =L63/J63 -> 18408.1 | L63: 18408.1
C64: 0048774 | D64: PROLUTEX | E64: rastvor za injekciju | J64: 49 | K64: =L64/J64 -> 480.49082 | L64: 23544.05
C65: 000615 | D65: SOPHAFYLIN | E65: rastvor za injekciju
C66: 0400400 | D66: ENTIX | E66: rastvor za injekciju
A69: Листа Ц
A76: Листа Д
A83: УКУПНО: | I83: =SUM(I16:I66) -> 7190034.7 | L83: =SUM(L16:L66) -> 1693488.9
A84: * Табелу попуњавају све здравствене установе

Sheet САНИТЕТСКИ И ПОТРОШНИ МАТЕР 
A2: САНИТЕТСКИ И МЕДИЦИНСКИ ПОТРОШНИ МАТЕРИЈАЛ ЗА ОСИГУРАНА ЛИЦА РФЗО
D3: Табела бр.10
A4: Р.бр. | B4: ГРУПА САНИТЕТСКОГ МАТЕРИЈАЛА | C4: План 2026. | D4: Извршење јануар - март 2026.
C5: Укупна вредност | D5: Укупна вредност
A6: 0 | B6: 1 | C6: 2 | D6: 3
B7: Санитетски и медицински потрошни материјал који се набављају у поступку ЦЈН | C7: 2934000 | D7: 671968
B8: Санитетски и медицински потрошни материјал - самостална набавка установе | C8: 53000 | D8: 54476
A22: УКУПНО: | C22: =SUM(C7:C21) -> 2987000 | D22: =SUM(D7:D21) -> 726444

Sheet РЕАГЕНСИ
A2: РЕАГЕНСИ ЗА ОСИГУРАНА ЛИЦА РФЗО
D3: Табела бр.11
A4: Р.бр. | B4: РЕАГЕНСИ | C4: План 2026. | D4: Извршење јануар - март 2026.
C5: Укупна вредност | D5: Укупна вредност
A6: 0 | B6: 1 | C6: 2 | D6: 3
B7: Реагенси који се набављају у поступку ЦЈН | C7: 3718000 | D7: 365833
B8: Реагенси - самостална набавка установе | D8: 14431
A21: РЕАГЕНСИ УКУПНО: | C21: =SUM(C7:C20) -> 3718000 | D21: =SUM(D7:D20) -> 380264

Sheet Прилог 5  РФЗО услуга обележје
A1: Republički fond za zdravstveno osiguranje - šifarnik usluga_obeležje
A2: Sifra usluge | B2: Naziv usluge | C2: Oznaka atributa | D2: Naziv atributa | E2: Važi od
A3: 1000017 | B3: Kratka poseta izabranom lekaru | C3: 00 | D3: Podrazumevana vrednost atributa | E3: 06.09.2013
A4: 1000017 | B4: Kratka poseta izabranom lekaru | C4: 01 | D4: usluga pružena licu sa invaliditetom | E4: 06.09.2013
A5: 1000017 | B5: Kratka poseta izabranom lekaru | C5: 28 | D5: Hitna medicinska pomoc | E5: 06.09.2013
A6: 1000025 | B6: Sprovođenje imunizacije, odnosno vakcinacije | C6: 00 | D6: Podrazumevana vrednost atributa | E6: 06.09.2013
A7: 1000025 | B7: Sprovođenje imunizacije, odnosno vakcinacije | C7: 01 | D7: usluga pružena licu sa invaliditetom | E7: 06.09.2013
A8: 1000025 | B8: Sprovođenje imunizacije, odnosno vakcinacije | C8: 02 | D8: usluga pružena na terenu | E8: 06.09.2013
A9: 1000025 | B9: Sprovodenje imunizacije, odnosno vakcinacije | C9: 28 | D9: Hitna medicinska pomoc | E9: 06.09.2013
A10: 1000025 | B10: Sprovodenje imunizacije, odnosno vakcinacije | C10: 50 | D10: Vakcina protiv virusa gripa | E10: 01.06.2018
A11: 1000025 | B11: Sprovodenje imunizacije, odnosno vakcinacije | C11: 51 | D11: Vakcina TT - protiv tetanusa | E11: 01.06.2018
A12: 1000025 | B12: Sprovodenje imunizacije, odnosno vakcinacije | C12: 53 | D12: Vakcina HepB - protiv hepatitisa | E12: 01.06.2018
A13: 1000025 | B13: Sprovodenje imunizacije, odnosno vakcinacije | C13: 53 | D13: Vakcina HepB - protiv hepatitisa | E13: 01.01.2019
A14: 1000025 | B14: Sprovođenje imunizacije, odnosno vakcinacije | C14: 54 | D14: Vakcina DTaP - protiv dift. tetanusa i vel. kašja | E14: 01.06.2018
... A96: 1000215 | B96: Individualni zdravstveno - vaspitni rad | C96: 35 | D96: Savetovalište za dijabetičare | E96: 01.08.2017
A97: 1000215- T | B97: Individualni zdravstveno vaspitni rad - telefonsko savetovalište Deca Srbje | C97: 00 | D97: Podrazumevana vrednost atributa | E97: 01.09.2014
A98: 1000223 | B98: Skrining/ rano otkrivanje raka debelog creva | C98: 00 | D98: Podrazumevana vrednost atributa | E98: 06.09.2013
A99: 1000223 | B99: Skrining/ rano otkrivanje raka debelog creva | C99: 01 | D99: usluga pružena licu sa invaliditetom | E99: 06.09.2013
A100: 1000223 | B100: Skrining/ rano otkrivanje raka debelog creva | C100: 28 | D100: Hitna medicinska pomoc | E100: 06.09.2013
A101: 1000223 | B101: Skrining/ rano otkrivanje raka debelog creva | C101: 33 | D101: Organizovani skrining | E101: 01.11.2014
A102: 1000231 | B102: Sanitetski prevoz | C102: 00 | D102: Podrazumevana vrednost atributa | E102: 06.09.2013
A103: 1000231 | B103: Sanitetski prevoz | C103: 01 | D103: usluga pružena licu sa invaliditetom | E103: 06.09.2013
A104: 1000231 | B104: Sanitetski prevoz | C104: 28 | D104: Hitna medicinska pomoc | E104: 06.09.2013
A105: 1000231 | B105: Sanitetski prevoz | C105: 29 | D105: Medicinska pratnja | E105: 06.09.2013
A106: 1000272 | B106: Terapeutska procedura koja se odnosi na bolesti srca i krvnih sudova | C106: 00 | D106: Podrazumevana vrednost atributa | E106: 06.09.2013
A107: 1000272 | B107: Terapeutska procedura koja se odnosi na bolesti srca i krvnih sudova | C107: 01 | D107: usluga pružena licu sa invaliditetom | E107: 06.09.2013
A108: 1000272 | B108: Terapeutska procedura koja se odnosi na bolesti srca i krvnih sudova | C108: 02 | D108: usluga pružena na terenu | E108: 06.09.2013
A109: 1000272 | B109: Terapeutska procedura koja se odnosi na bolesti srca i krvnih sudova | C109: 28 | D109: Hitna medicinska pomoc | E109: 06.09.2013
... A865: 2401677 | B865: Vestibularna ploča | C865: 28 | D865: Hitna medicinska pomoc | E865: 01.01.2013
A866: L000018 | B866: Uzorkovanje krvi (mikrouzorkovanje) | C866: 00 | D866: Podrazumevana vrednost atributa | E866: 01.01.2014
A867: L000018 | B867: Uzorkovanje krvi (mikrouzorkovanje) | C867: 01 | D867: usluga pružena licu sa invaliditetom | E867: 01.01.2014
A868: L000018 | B868: Uzorkovanje krvi (mikrouzorkovanje) | C868: 02 | D868: usluga pružena na terenu | E868: 01.01.2014
A869: L000018 | B869: Uzorkovanje krvi (mikrouzorkovanje) | C869: 28 | D869: Hitna medicinska pomoc | E869: 01.01.2014
A870: L000026 | B870: Uzorkovanje krvi (venepunkcija) | C870: 00 | D870: Podrazumevana vrednost atributa | E870: 01.01.2014
A871: L000026 | B871: Uzorkovanje krvi (venepunkcija) | C871: 01 | D871: usluga pružena licu sa invaliditetom | E871: 01.01.2014
A872: L000026 | B872: Uzorkovanje krvi (venepunkcija) | C872: 02 | D872: usluga pružena na terenu | E872: 01.01.2014
A873: L000026 | B873: Uzorkovanje krvi (venepunkcija) | C873: 28 | D873: Hitna medicinska pomoc | E873: 01.01.2014
A874: L000034 | B874: Uzorkovanje drugih bioloških materjala u laboratorji | C874: 00 | D874: Podrazumevana vrednost atributa | E874: 01.01.2014
A875: L000034 | B875: Uzorkovanje drugih bioloških materjala u laboratorji | C875: 01 | D875: usluga pružena licu sa invaliditetom | E875: 01.01.2014
A876: L000034 | B876: Uzorkovanje drugih bioloških materjala u laboratorji | C876: 02 | D876: usluga pružena na terenu | E876: 01.01.2014
A877: L000034 | B877: Uzorkovanje drugih bioloških materjala u laboratorji | C877: 28 | D877: Hitna medicinska pomoc | E877: 01.01.2014
... A1195: L029454 | B1195: Eksfolijativna citologja tkiva reproduktivnih organa žene - neautomatizovana priprema i neautomatizovano bojenje | C1195: 33 | D1195: Organizovani skrining | E1195: 01.11.2014

Sheet Прилог 6 РФЗО  атрибути
A1: Republički fond za zdravstveno osiguranje - šifarnik usluga_atribut
A2: Oznaka | B2: Naziv | C2: Važi od
A3: 00 | B3: Podrazumevana vrednost atributa | C3: 01.01.2009
A4: 01 | B4: usluga pružena licu sa invaliditetom | C4: 01.01.2009
A5: 02 | B5: usluga pružena na terenu | C5: 01.01.2009
A6: 03 | B6: ponovni specijalističko-konsultativni pregled | C6: 01.01.2009
A7: 05 | B7: Predavanje | C7: 20.03.2010
A8: 06 | B8: Do kraja prvog trimestra trudnoće | C8: 20.03.2010
A9: 09 | B9: Nakon šest meseci | C9: 20.03.2010
A10: 10 | B10: Preventivni pregled u okviru sistematskog pregleda | C10: 20.03.2010
A11: 12 | B11: RTG dojke u dva pravca - mamografja | C11: 20.03.2010
A12: 21 | B12: Ponovna poseta | C12: 20.03.2010
A13: 22 | B13: Poseta trudnici | C13: 20.03.2010
... A46: 75 | B46: Analiza rezultata UZ pregleda kukova | C46: 01.01.2019
